BEGIN:VCALENDAR
VERSION:2.0
PRODID:gruene-rendsburg-eckernfoerde.de
METHOD:PUBLISH
BEGIN:VTIMEZONE
TZID:Europe/Berlin
X-LIC-LOCATION:Europe/Berlin
BEGIN:DAYLIGHT
TZOFFSETFROM:+0100
TZOFFSETTO:+0200
TZNAME:CEST
DTSTART:19700329T020000
RRULE:FREQ=YEARLY;INTERVAL=1;BYDAY=-1SU;BYMONTH=3
END:DAYLIGHT
BEGIN:STANDARD
TZOFFSETFROM:+0200
TZOFFSETTO:+0100
TZNAME:CET
DTSTART:19701025T030000
RRULE:FREQ=YEARLY;INTERVAL=1;BYDAY=-1SU;BYMONTH=10
END:STANDARD
END:VTIMEZONE
BEGIN:VEVENT
UID:3e0a538b4ad0239201387d0e154de99e@gruene-rendsburg-eckernfoerde.de
URL;VALUE=URI:https://gruene-rendsburg-eckernfoerde.de/termine/kreismitgl
 iederversammlung-mit-delegiertenwahl/
LOCATION:
SUMMARY:Kreismitgliederversammlung mit Delegiertenwahl
DESCRIPTION;ALTREP="data:text/html,%0A%3Cp%3ENicht%20vergessen%20am%2025.
 04%20ist%20unsere%20n%C3%A4chste%20Kreismitgliederversammlung.%20Gemeinsa
 m%20wollen%20wir%20nicht%20nur%20neue%20Delegierte%20f%C3%BCr%20den%20Lan
 desparteitag%20w%C3%A4hlen%20sondern%20auch%20miteinander%20ins%20Gespr%C
 3%A4ch%20kommen.%20Es%20gibt%20Berichte%20und%20Redebeitr%C3%A4ge%20zur%2
 0bald%20anstehenden%20Landtagswahl%20und%20der%20Satzungs-Urabstimmung.%2
 0Wir%20freuen%20uns%20auf%20euch.%3C%2Fp%3E%0A%0A%0A%0A%3Cp%3EAlle%20Info
 s%20zur%20Versammlung%20findet%20ihr%20hier%3A%20%3Ca%20href%3D%22https%3
 A%2F%2Fkv-rd-eck.antragsgruen.de%2F%22%3Ehttps%3A%2F%2Fkv-rd-eck.antragsg
 ruen.de%2F%3C%2Fa%3E%3C%2Fp%3E%0A%0A%0A%0A%3Cp%3EPS%3A%20Denkt%20bitte%20
 an%20euren%20Ausweis%20%28%2Aden%20brauchen%20wir%20f%C3%BCr%20die%20Iden
 tit%C3%A4tspr%C3%BCfung%29%3C%2Fp%3E%0A%0A%0A%0A%3Cp%3E%3C%2Fp%3E%0A":Nic
 ht vergessen am 25.04 ist unsere nächste Kreismitgliederversammlung. Gem
 einsam wollen wir nicht nur neue Delegierte für den Landesparteitag wäh
 len sondern auch miteinander ins Gespräch kommen. Es gibt Berichte und R
 edebeiträge zur bald anstehenden Landtagswahl und der Satzungs-Urabstimm
 ung. Wir freuen uns auf euch.\n\nAlle Infos zur Versammlung findet ihr hi
 er: https://kv-rd-eck.antragsgruen.de/\n\nPS: Denkt bitte an euren Auswei
 s (*den brauchen wir für die Identitätsprüfung)
CLASS:PUBLIC
DTSTART;TZID=Europe/Berlin:20260425T100000
DTEND;TZID=Europe/Berlin:20260425T170000
DTSTAMP:20260420T062330
END:VEVENT
BEGIN:VEVENT
UID:4983ec2109f916dc32063fc6151df59c@gruene-rendsburg-eckernfoerde.de
URL;VALUE=URI:https://gruene-rendsburg-eckernfoerde.de/termine/mitglieder
 oeffentliche-vorstandssitzung-8/
LOCATION:
SUMMARY:Mitglieder-öffentliche Kreisvorstandssitzung
DESCRIPTION;ALTREP="data:text/html,%0A%3Cp%20id%3D%22block-6ed465c5-b87f-
 40bd-a723-4c455dc674e5%22%3EIhr%20habt%20Lust%2C%20live%20dabei%20zu%20se
 in%2C%20wenn%20sich%20der%20Kreisvorstand%20trifft%3F%20Ihr%20wollt%20eur
 e%20Themen%20einbringen%20und%20auf%20dem%20aller%20neusten%20Stand%20sei
 n%3F%3C%2Fp%3E%0A%0A%0A%0A%3Cp%20id%3D%22block-975c9fd3-d632-46b2-ab6b-92
 6080ad9f65%22%3ESchaltet%20euch%20in%20die%20mitglieder-%C3%B6ffentliche%
 20Vorstandssitzung%20dazu%2C%20ihr%20findet%20sie%20unter%20folgendem%20L
 ink%3A%3C%2Fp%3E%0A%0A%0A%0A%3Cp%3E%3Ca%20href%3D%22https%3A%2F%2Fzoom.us
 %2Fj%2F99397975381%3Fpwd%3DtbhRJoLO9S05bSRgv9yWWUGNeqR5HX.1%22%3Ehttps%3A
 %2F%2Fzoom.us%2Fj%2F99397975381%3Fpwd%3DtbhRJoLO9S05bSRgv9yWWUGNeqR5HX.1%
 3C%2Fa%3E%3C%2Fp%3E%0A%0A%0A%0A%3Cp%20id%3D%22block-31e8f29e-1b41-41f9-ac
 5a-f6a72d6e0da0%22%3E%3C%2Fp%3E%0A%0A%0A%0A%3Cp%20id%3D%22block-c581085b-
 4951-476e-bdbd-7392fdcb2aef%22%3EDie%20mitglieder-%C3%B6ffentliche%20Vors
 tandssitzungen%20finden%20immer%20am%201.%20und%203%2C%20Mittwoch%20eines
 %20Monats%20online%20statt.%20%3C%2Fp%3E%0A%0A%0A%0A%3Cp%3E%3C%2Fp%3E%0A"
 :Ihr habt Lust\, live dabei zu sein\, wenn sich der Kreisvorstand trifft?
  Ihr wollt eure Themen einbringen und auf dem aller neusten Stand sein?\n
 \nSchaltet euch in die mitglieder-öffentliche Vorstandssitzung dazu\, ih
 r findet sie unter folgendem Link:\n\nhttps://zoom.us/j/99397975381?pwd=t
 bhRJoLO9S05bSRgv9yWWUGNeqR5HX.1\n\nDie mitglieder-öffentliche Vorstandss
 itzungen finden immer am 1. und 3\, Mittwoch eines Monats online statt.
CLASS:PUBLIC
DTSTART;TZID=Europe/Berlin:20260506T190000
DTEND;TZID=Europe/Berlin:20260506T210000
DTSTAMP:20260420T062330
END:VEVENT
BEGIN:VEVENT
UID:437714e1032565054d3fc7879728abbc@gruene-rendsburg-eckernfoerde.de
URL;VALUE=URI:https://gruene-rendsburg-eckernfoerde.de/termine/mitglieder
 -oeffentliche-kreisvorstandssitzung-3/
LOCATION:
SUMMARY:Mitglieder-öffentliche Kreisvorstandssitzung
DESCRIPTION;ALTREP="data:text/html,%0A%3Cp%20id%3D%22block-6ed465c5-b87f-
 40bd-a723-4c455dc674e5%22%3EIhr%20habt%20Lust%2C%20live%20dabei%20zu%20se
 in%2C%20wenn%20sich%20der%20Kreisvorstand%20trifft%3F%20Ihr%20wollt%20eur
 e%20Themen%20einbringen%20und%20auf%20dem%20aller%20neusten%20Stand%20sei
 n%3F%3C%2Fp%3E%0A%0A%0A%0A%3Cp%20id%3D%22block-975c9fd3-d632-46b2-ab6b-92
 6080ad9f65%22%3ESchaltet%20euch%20in%20die%20mitglieder-%C3%B6ffentliche%
 20Vorstandssitzung%20dazu%2C%20ihr%20findet%20sie%20unter%20folgendem%20L
 ink%3A%3C%2Fp%3E%0A%0A%0A%0A%3Cp%3E%3Ca%20href%3D%22https%3A%2F%2Fzoom.us
 %2Fj%2F99397975381%3Fpwd%3DtbhRJoLO9S05bSRgv9yWWUGNeqR5HX.1%22%3Ehttps%3A
 %2F%2Fzoom.us%2Fj%2F99397975381%3Fpwd%3DtbhRJoLO9S05bSRgv9yWWUGNeqR5HX.1%
 3C%2Fa%3E%3C%2Fp%3E%0A%0A%0A%0A%3Cp%20id%3D%22block-31e8f29e-1b41-41f9-ac
 5a-f6a72d6e0da0%22%3E%3C%2Fp%3E%0A%0A%0A%0A%3Cp%20id%3D%22block-c581085b-
 4951-476e-bdbd-7392fdcb2aef%22%3EDie%20mitglieder-%C3%B6ffentliche%20Vors
 tandssitzungen%20finden%20immer%20am%201.%20und%203%2C%20Mittwoch%20eines
 %20Monats%20online%20statt.%20%3C%2Fp%3E%0A":Ihr habt Lust\, live dabei z
 u sein\, wenn sich der Kreisvorstand trifft? Ihr wollt eure Themen einbri
 ngen und auf dem aller neusten Stand sein?\n\nSchaltet euch in die mitgli
 eder-öffentliche Vorstandssitzung dazu\, ihr findet sie unter folgendem 
 Link:\n\nhttps://zoom.us/j/99397975381?pwd=tbhRJoLO9S05bSRgv9yWWUGNeqR5HX
 .1\n\nDie mitglieder-öffentliche Vorstandssitzungen finden immer am 1. u
 nd 3\, Mittwoch eines Monats online statt.
CLASS:PUBLIC
DTSTART;TZID=Europe/Berlin:20260520T190000
DTEND;TZID=Europe/Berlin:20260520T210000
DTSTAMP:20260420T062330
END:VEVENT
BEGIN:VEVENT
UID:ef38bca8d780cc18b3d908124443aa7d@gruene-rendsburg-eckernfoerde.de
URL;VALUE=URI:https://gruene-rendsburg-eckernfoerde.de/termine/mitglieder
 -oeffentliche-kreisvorstandssitzung-4/
LOCATION:
SUMMARY:Mitglieder-öffentliche Kreisvorstandssitzung
DESCRIPTION;ALTREP="data:text/html,%0A%3Cp%20id%3D%22block-6ed465c5-b87f-
 40bd-a723-4c455dc674e5%22%3EIhr%20habt%20Lust%2C%20live%20dabei%20zu%20se
 in%2C%20wenn%20sich%20der%20Kreisvorstand%20trifft%3F%20Ihr%20wollt%20eur
 e%20Themen%20einbringen%20und%20auf%20dem%20aller%20neusten%20Stand%20sei
 n%3F%3C%2Fp%3E%0A%0A%0A%0A%3Cp%20id%3D%22block-975c9fd3-d632-46b2-ab6b-92
 6080ad9f65%22%3ESchaltet%20euch%20in%20die%20mitglieder-%C3%B6ffentliche%
 20Vorstandssitzung%20dazu%2C%20ihr%20findet%20sie%20unter%20folgendem%20L
 ink%3A%3C%2Fp%3E%0A%0A%0A%0A%3Cp%3E%3Ca%20href%3D%22https%3A%2F%2Fzoom.us
 %2Fj%2F99397975381%3Fpwd%3DtbhRJoLO9S05bSRgv9yWWUGNeqR5HX.1%22%3Ehttps%3A
 %2F%2Fzoom.us%2Fj%2F99397975381%3Fpwd%3DtbhRJoLO9S05bSRgv9yWWUGNeqR5HX.1%
 3C%2Fa%3E%3C%2Fp%3E%0A%0A%0A%0A%3Cp%20id%3D%22block-31e8f29e-1b41-41f9-ac
 5a-f6a72d6e0da0%22%3E%3C%2Fp%3E%0A%0A%0A%0A%3Cp%20id%3D%22block-c581085b-
 4951-476e-bdbd-7392fdcb2aef%22%3EDie%20mitglieder-%C3%B6ffentliche%20Vors
 tandssitzungen%20finden%20immer%20am%201.%20und%203%2C%20Mittwoch%20eines
 %20Monats%20online%20statt.%20%3C%2Fp%3E%0A":Ihr habt Lust\, live dabei z
 u sein\, wenn sich der Kreisvorstand trifft? Ihr wollt eure Themen einbri
 ngen und auf dem aller neusten Stand sein?\n\nSchaltet euch in die mitgli
 eder-öffentliche Vorstandssitzung dazu\, ihr findet sie unter folgendem 
 Link:\n\nhttps://zoom.us/j/99397975381?pwd=tbhRJoLO9S05bSRgv9yWWUGNeqR5HX
 .1\n\nDie mitglieder-öffentliche Vorstandssitzungen finden immer am 1. u
 nd 3\, Mittwoch eines Monats online statt.
CLASS:PUBLIC
DTSTART;TZID=Europe/Berlin:20260603T190000
DTEND;TZID=Europe/Berlin:20260603T210000
DTSTAMP:20260420T062330
END:VEVENT
BEGIN:VEVENT
UID:a1b4199e468755726e8d1cf2028912c2@gruene-rendsburg-eckernfoerde.de
URL;VALUE=URI:https://gruene-rendsburg-eckernfoerde.de/termine/betriebsfe
 rien/
LOCATION:
SUMMARY:Betriebsferien
DESCRIPTION;ALTREP="data:text/html,%0A%3Cp%3EAuch%20wir%20g%C3%B6nnen%20u
 ns%20eine%20kleine%20Auszeit%3A%3Cbr%3EDie%20Kreisgesch%C3%A4ftsstelle%20
 macht%20vom%20%3Cstrong%3E06.%20Juli%20bis%20einschlie%C3%9Flich%2024.%20
 Juli%202026%3C%2Fstrong%3E%20Betriebsferien.%3C%2Fp%3E%0A%0A%0A%0A%3Cp%3E
 In%20dieser%20Zeit%20bleibt%20das%20B%C3%BCro%20geschlossen%20%E2%80%93%2
 0aber%20keine%20Sorge%3A%3Cbr%3EBei%20wirklich%20dringenden%20Anliegen%20
 ist%20unser%20Vorstand%20f%C3%BCr%20euch%20da%20und%20springt%20ein.%3C%2
 Fp%3E%0A%0A%0A%0A%3Cp%3EAb%20dem%20%3Cstrong%3E27.%20Juli%202026%3C%2Fstr
 ong%3E%20sind%20wir%20wieder%20erholt%2C%20voller%20Energie%20und%20wie%2
 0gewohnt%20erreichbar.%3C%2Fp%3E%0A%0A%0A%0A%3Cp%3E%3C%2Fp%3E%0A":Auch wi
 r gönnen uns eine kleine Auszeit:Die Kreisgeschäftsstelle macht vom 06.
  Juli bis einschließlich 24. Juli 2026 Betriebsferien.\n\nIn dieser Zeit
  bleibt das Büro geschlossen – aber keine Sorge:Bei wirklich dringende
 n Anliegen ist unser Vorstand für euch da und springt ein.\n\nAb dem 27.
  Juli 2026 sind wir wieder erholt\, voller Energie und wie gewohnt erreic
 hbar.
CLASS:PUBLIC
DTSTART;TZID=Europe/Berlin:20260706
DTEND;TZID=Europe/Berlin:20260725
DTSTAMP:20260420T062330
END:VEVENT
END:VCALENDAR