BEGIN:VCALENDAR
VERSION:2.0
PRODID:gruene-rendsburg-eckernfoerde.de
METHOD:PUBLISH
BEGIN:VTIMEZONE
TZID:Europe/Berlin
X-LIC-LOCATION:Europe/Berlin
BEGIN:DAYLIGHT
TZOFFSETFROM:+0100
TZOFFSETTO:+0200
TZNAME:CEST
DTSTART:19700329T020000
RRULE:FREQ=YEARLY;INTERVAL=1;BYDAY=-1SU;BYMONTH=3
END:DAYLIGHT
BEGIN:STANDARD
TZOFFSETFROM:+0200
TZOFFSETTO:+0100
TZNAME:CET
DTSTART:19701025T030000
RRULE:FREQ=YEARLY;INTERVAL=1;BYDAY=-1SU;BYMONTH=10
END:STANDARD
END:VTIMEZONE
BEGIN:VEVENT
UID:e5bc79403078fb979bba4e78f32c4e22@gruene-rendsburg-eckernfoerde.de
URL;VALUE=URI:https://gruene-rendsburg-eckernfoerde.de/termine/weihnachts
 liedersingen-in-flintbek/
LOCATION:Grünfläche Markant, Eiderkamp 1, Flintbek
SUMMARY:Weihnachtsliedersingen in Flintbek
DESCRIPTION;ALTREP="data:text/html,%0A%3Cp%3EDer%20Ortsverband%20Flintbek
 %20l%C3%A4dt%20ein%20zum%20Weihnachtsliedersingen%20bei%20hei%C3%9Fem%20P
 unsch%20und%20leckeren%20Keksen.%20Am%20Freitag%2C%20den%2013.%20ab%2017%
 20Uhr%20treffen%20sich%20alle%2C%20die%20Lust%20auf%20ein%20sch%C3%B6nes%
 20gesangliches%20Beisammensein%20haben%20auf%20der%20Gr%C3%BCnfl%C3%A4che
 %20%22Eiderkamp%22%20bei%20Markant.%20Die%20Getr%C3%A4nke%20und%20Kekse%2
 0sind%20frei.%20Eine%20Spende%20f%C3%BCr%20die%20Flintbeker%20Tafel%20ist
 %20willkommen%20%F0%9F%A4%97.%3C%2Fp%3E%0A":Der Ortsverband Flintbek läd
 t ein zum Weihnachtsliedersingen bei heißem Punsch und leckeren Keksen. 
 Am Freitag\, den 13. ab 17 Uhr treffen sich alle\, die Lust auf ein schö
 nes gesangliches Beisammensein haben auf der Grünfläche "Eiderkamp" bei
  Markant. Die Getränke und Kekse sind frei. Eine Spende für die Flintbe
 ker Tafel ist willkommen 🤗.
CLASS:PUBLIC
DTSTART;TZID=Europe/Berlin:20241213T170000
DTEND;TZID=Europe/Berlin:20241213T200000
DTSTAMP:20260422T100616
END:VEVENT
END:VCALENDAR