BEGIN:VCALENDAR
VERSION:2.0
PRODID:gruene-rendsburg-eckernfoerde.de
METHOD:PUBLISH
BEGIN:VTIMEZONE
TZID:Europe/Berlin
X-LIC-LOCATION:Europe/Berlin
BEGIN:DAYLIGHT
TZOFFSETFROM:+0100
TZOFFSETTO:+0200
TZNAME:CEST
DTSTART:19700329T020000
RRULE:FREQ=YEARLY;INTERVAL=1;BYDAY=-1SU;BYMONTH=3
END:DAYLIGHT
BEGIN:STANDARD
TZOFFSETFROM:+0200
TZOFFSETTO:+0100
TZNAME:CET
DTSTART:19701025T030000
RRULE:FREQ=YEARLY;INTERVAL=1;BYDAY=-1SU;BYMONTH=10
END:STANDARD
END:VTIMEZONE
BEGIN:VEVENT
UID:32d9bf40369e98ccaf9cd78bf32618c1@gruene-rendsburg-eckernfoerde.de
URL;VALUE=URI:https://gruene-rendsburg-eckernfoerde.de/termine/neumitglie
 dertreffen-3/
LOCATION:
SUMMARY:Neumitgliederfrühstück am 17. Juni um 10 Uhr im Gemeindezentrum
  Altenholz
DESCRIPTION;ALTREP="data:text/html,%0A%3Cp%3ENeumitgliedertreffen%20bei%2
 0einem%20gem%C3%BCtlichen%20Fr%C3%BChst%C3%BCck%20in%20Altenholz.%20Melde
 t%20euch%20bitte%20mit%20einer%20kurzen%20Mail%20in%20der%20Kreisgesch%C3
 %A4ftsstelle%20an%21%3C%2Fp%3E%0A":Neumitgliedertreffen bei einem gemütl
 ichen Frühstück in Altenholz. Meldet euch bitte mit einer kurzen Mail i
 n der Kreisgeschäftsstelle an!
CLASS:PUBLIC
DTSTART;TZID=Europe/Berlin:20230617T100000
DTEND;TZID=Europe/Berlin:20230617T110000
DTSTAMP:20260420T095939
END:VEVENT
END:VCALENDAR