BEGIN:VCALENDAR
VERSION:2.0
PRODID:gruene-rendsburg-eckernfoerde.de
METHOD:PUBLISH
BEGIN:VTIMEZONE
TZID:Europe/Berlin
X-LIC-LOCATION:Europe/Berlin
BEGIN:DAYLIGHT
TZOFFSETFROM:+0100
TZOFFSETTO:+0200
TZNAME:CEST
DTSTART:19700329T020000
RRULE:FREQ=YEARLY;INTERVAL=1;BYDAY=-1SU;BYMONTH=3
END:DAYLIGHT
BEGIN:STANDARD
TZOFFSETFROM:+0200
TZOFFSETTO:+0100
TZNAME:CET
DTSTART:19701025T030000
RRULE:FREQ=YEARLY;INTERVAL=1;BYDAY=-1SU;BYMONTH=10
END:STANDARD
END:VTIMEZONE
BEGIN:VEVENT
UID:d236e7e9bdb81e141ac09a4991e5e94d@gruene-rendsburg-eckernfoerde.de
URL;VALUE=URI:https://gruene-rendsburg-eckernfoerde.de/termine/kreisvorst
 andssitzung/
LOCATION:
SUMMARY:Kreisvorstandssitzung
DESCRIPTION;ALTREP="data:text/html,%3Cp%3E%3C%2Fp%3E%0A%3Cp%3Edigital%20v
 ia%20ZOOM%3C%2Fp%3E%0A%3Cp%3E%3C%2Fp%3E%0A%3Cp%3E%3C%2Fp%3E%0A%3Cp%3EMeet
 ing-ID%3A%20857%202766%206210%20%3Cbr%20%2F%3EKenncode%3A%20729724%3C%2Fp
 %3E%0A%3Cp%3E%3Ca%20href%3D%22https%3A%2F%2Fus02web.zoom.us%2Fj%2F8572766
 6210%3Fpwd%3DTmgwazVBbGJkOGFnRDdONkVpRG9sQT09%22%3Ehttps%3A%2F%2Fus02web.
 zoom.us%2Fj%2F85727666210%3Fpwd%3DTmgwazVBbGJkOGFnRDdONkVpRG9sQT09%3C%2Fa
 %3E%3C%2Fp%3E%0A%3Cp%3E%3C%2Fp%3E":digital via ZOOM\n\nMeeting-ID: 857 27
 66 6210 Kenncode: 729724\n\nhttps://us02web.zoom.us/j/85727666210?pwd=Tmg
 wazVBbGJkOGFnRDdONkVpRG9sQT09
CLASS:PUBLIC
DTSTART;TZID=Europe/Berlin:19700101T000000
DTEND;TZID=Europe/Berlin:19700101T010000
DTSTAMP:20260423T215404
END:VEVENT
END:VCALENDAR