BEGIN:VCALENDAR
VERSION:2.0
PRODID:gruene-rendsburg-eckernfoerde.de
METHOD:PUBLISH
BEGIN:VTIMEZONE
TZID:Europe/Berlin
X-LIC-LOCATION:Europe/Berlin
BEGIN:DAYLIGHT
TZOFFSETFROM:+0100
TZOFFSETTO:+0200
TZNAME:CEST
DTSTART:19700329T020000
RRULE:FREQ=YEARLY;INTERVAL=1;BYDAY=-1SU;BYMONTH=3
END:DAYLIGHT
BEGIN:STANDARD
TZOFFSETFROM:+0200
TZOFFSETTO:+0100
TZNAME:CET
DTSTART:19701025T030000
RRULE:FREQ=YEARLY;INTERVAL=1;BYDAY=-1SU;BYMONTH=10
END:STANDARD
END:VTIMEZONE
BEGIN:VEVENT
UID:80510be175dd1c00012b775e49abd813@gruene-rendsburg-eckernfoerde.de
URL;VALUE=URI:https://gruene-rendsburg-eckernfoerde.de/termine/gruener-fe
 ierabend-in-nortorf/
LOCATION:Alter Landkrug, Große Mühlenstraße 13, Nortorf
SUMMARY:Grüner Feierabend in Nortorf
DESCRIPTION;ALTREP="data:text/html,%0A%3Cp%3EGemeinsam%20mit%20euch%20und
 %20unserem%20gr%C3%BCnen%20Minister%20Tobias%20Goldschmidt%20wollen%20wir
 %20%C3%BCber%20die%20Zukunft%20von%20Biogas%20reden.%20Wo%20wollen%20wir%
 20es%20einsetzen%20und%20wo%20nicht%3F%20Anschlie%C3%9Fend%20ist%20Zeit%2
 0f%C3%BCr%20Kl%C3%B6nschnack%2C%20Fragen%20und%20Austausch.%20Wir%20freue
 n%20uns%20wenn%2C%20ihr%20vorbeikommt%21%3C%2Fp%3E%0A":Gemeinsam mit euch
  und unserem grünen Minister Tobias Goldschmidt wollen wir über die Zuk
 unft von Biogas reden. Wo wollen wir es einsetzen und wo nicht? Anschlie
 ßend ist Zeit für Klönschnack\, Fragen und Austausch. Wir freuen uns w
 enn\, ihr vorbeikommt!
CLASS:PUBLIC
DTSTART;TZID=Europe/Berlin:20260217T180000
DTEND;TZID=Europe/Berlin:20260217T200000
DTSTAMP:20260420T102358
END:VEVENT
END:VCALENDAR