BEGIN:VCALENDAR
VERSION:2.0
PRODID:gruene-rendsburg-eckernfoerde.de
METHOD:PUBLISH
BEGIN:VTIMEZONE
TZID:Europe/Berlin
X-LIC-LOCATION:Europe/Berlin
BEGIN:DAYLIGHT
TZOFFSETFROM:+0100
TZOFFSETTO:+0200
TZNAME:CEST
DTSTART:19700329T020000
RRULE:FREQ=YEARLY;INTERVAL=1;BYDAY=-1SU;BYMONTH=3
END:DAYLIGHT
BEGIN:STANDARD
TZOFFSETFROM:+0200
TZOFFSETTO:+0100
TZNAME:CET
DTSTART:19701025T030000
RRULE:FREQ=YEARLY;INTERVAL=1;BYDAY=-1SU;BYMONTH=10
END:STANDARD
END:VTIMEZONE
BEGIN:VEVENT
UID:798abf803c5aaa1b4faf22d1a7753199@gruene-rendsburg-eckernfoerde.de
URL;VALUE=URI:https://gruene-rendsburg-eckernfoerde.de/termine/demonstrat
 ion-fuer-vielfalt-und-demokratie/
LOCATION:Schule Surendorf, An der Schule 11, Surendorf
SUMMARY:Demonstration für Vielfalt und Demokratie
DESCRIPTION;ALTREP="data:text/html,%0A%3Cp%3EOrganisiert%20und%20durchgef
 %C3%BChrt%20von%20B%C3%BCndnis%2090%2FDie%20Gr%C3%BCnen%2C%20der%20SPD%20
 und%20der%20ev.%20Kirchengemeinde%20Krusendorf%20wollen%20wir%20eine%20Wo
 che%20vor%20der%20Bundestagswahl%20ein%20deutliches%20Zeichen%20f%C3%BCr%
 20eine%20starke%20und%20wehrhafte%20Demokratie%20gegen%20Populismus%20und
 %20Rechtsextremismus%20setzen.%20Anschlie%C3%9Fend%20feiern%20wir%20ein%2
 0kleines%20Strandfest%20zugunsten%20des%20Nachwuchses%20der%20STS-Wassers
 portler.%20Seien%20Sie%20herzlich%20willkommen%20in%20Surendorf%2C%20wo%2
 0wir%20von%20der%20Schule%20bis%20zum%20Strand%20gehen.%20%3C%2Fp%3E%0A":
 Organisiert und durchgeführt von Bündnis 90/Die Grünen\, der SPD und d
 er ev. Kirchengemeinde Krusendorf wollen wir eine Woche vor der Bundestag
 swahl ein deutliches Zeichen für eine starke und wehrhafte Demokratie ge
 gen Populismus und Rechtsextremismus setzen. Anschließend feiern wir ein
  kleines Strandfest zugunsten des Nachwuchses der STS-Wassersportler. Sei
 en Sie herzlich willkommen in Surendorf\, wo wir von der Schule bis zum S
 trand gehen.
CLASS:PUBLIC
DTSTART;TZID=Europe/Berlin:20250216T140000
DTEND;TZID=Europe/Berlin:20250216T170000
DTSTAMP:20260420T100045
END:VEVENT
END:VCALENDAR