BEGIN:VCALENDAR
VERSION:2.0
PRODID:gruene-rendsburg-eckernfoerde.de
METHOD:PUBLISH
BEGIN:VTIMEZONE
TZID:Europe/Berlin
X-LIC-LOCATION:Europe/Berlin
BEGIN:DAYLIGHT
TZOFFSETFROM:+0100
TZOFFSETTO:+0200
TZNAME:CEST
DTSTART:19700329T020000
RRULE:FREQ=YEARLY;INTERVAL=1;BYDAY=-1SU;BYMONTH=3
END:DAYLIGHT
BEGIN:STANDARD
TZOFFSETFROM:+0200
TZOFFSETTO:+0100
TZNAME:CET
DTSTART:19701025T030000
RRULE:FREQ=YEARLY;INTERVAL=1;BYDAY=-1SU;BYMONTH=10
END:STANDARD
END:VTIMEZONE
BEGIN:VEVENT
UID:98903cb71a8e852f91d04882047a73b2@gruene-rendsburg-eckernfoerde.de
URL;VALUE=URI:https://gruene-rendsburg-eckernfoerde.de/termine/betriebsfe
 rien/
LOCATION:
SUMMARY:Betriebsferien
DESCRIPTION;ALTREP="data:text/html,%0A%3Cp%3EAuch%20wir%20g%C3%B6nnen%20u
 ns%20eine%20kleine%20Auszeit%3A%3Cbr%3EDie%20Kreisgesch%C3%A4ftsstelle%20
 macht%20vom%20%3Cstrong%3E06.%20Juli%20bis%20einschlie%C3%9Flich%2024.%20
 Juli%202026%3C%2Fstrong%3E%20Betriebsferien.%3C%2Fp%3E%0A%0A%0A%0A%3Cp%3E
 In%20dieser%20Zeit%20bleibt%20das%20B%C3%BCro%20geschlossen%20%E2%80%93%2
 0aber%20keine%20Sorge%3A%3Cbr%3EBei%20wirklich%20dringenden%20Anliegen%20
 ist%20unser%20Vorstand%20f%C3%BCr%20euch%20da%20und%20springt%20ein.%3C%2
 Fp%3E%0A%0A%0A%0A%3Cp%3EAb%20dem%20%3Cstrong%3E27.%20Juli%202026%3C%2Fstr
 ong%3E%20sind%20wir%20wieder%20erholt%2C%20voller%20Energie%20und%20wie%2
 0gewohnt%20erreichbar.%3C%2Fp%3E%0A%0A%0A%0A%3Cp%3E%3C%2Fp%3E%0A":Auch wi
 r gönnen uns eine kleine Auszeit:Die Kreisgeschäftsstelle macht vom 06.
  Juli bis einschließlich 24. Juli 2026 Betriebsferien.\n\nIn dieser Zeit
  bleibt das Büro geschlossen – aber keine Sorge:Bei wirklich dringende
 n Anliegen ist unser Vorstand für euch da und springt ein.\n\nAb dem 27.
  Juli 2026 sind wir wieder erholt\, voller Energie und wie gewohnt erreic
 hbar.
CLASS:PUBLIC
DTSTART;TZID=Europe/Berlin:20260706
DTEND;TZID=Europe/Berlin:20260725
DTSTAMP:20260420T063106
END:VEVENT
END:VCALENDAR